Package: epiregulon Version: 1.5.1 Command: /Library/Frameworks/R.framework/Resources/bin/R CMD INSTALL epiregulon StartedAt: 2025-07-01 15:59:19 -0400 (Tue, 01 Jul 2025) EndedAt: 2025-07-01 16:00:08 -0400 (Tue, 01 Jul 2025) EllapsedTime: 49.2 seconds RetCode: 0 Status: OK