Package: epiregulon Version: 1.5.1 Command: /Library/Frameworks/R.framework/Resources/bin/R CMD build --keep-empty-dirs --no-resave-data epiregulon StartedAt: 2025-07-01 16:55:27 -0400 (Tue, 01 Jul 2025) EndedAt: 2025-07-01 16:58:57 -0400 (Tue, 01 Jul 2025) EllapsedTime: 210.1 seconds RetCode: 0 Status: OK PackageFile: epiregulon_1.5.1.tar.gz PackageFileSize: 1.263 MiB