Package: epiregulon Version: 1.5.1 Command: rm -rf epiregulon.buildbin-libdir && mkdir epiregulon.buildbin-libdir && /Users/biocbuild/BBS/utils/build-universal.sh epiregulon_1.5.1.tar.gz /Library/Frameworks/R.framework/Resources/bin/R epiregulon.buildbin-libdir StartedAt: 2025-07-02 00:56:19 -0400 (Wed, 02 Jul 2025) EndedAt: 2025-07-02 00:57:12 -0400 (Wed, 02 Jul 2025) EllapsedTime: 53.1 seconds RetCode: 0 Status: OK PackageFile: epiregulon_1.5.1.tgz PackageFileSize: 1.408 MiB