Package: epiregulon Version: 1.5.1 Command: /Library/Frameworks/R.framework/Resources/bin/R CMD INSTALL epiregulon StartedAt: 2025-09-30 15:29:35 -0400 (Tue, 30 Sep 2025) EndedAt: 2025-09-30 15:29:50 -0400 (Tue, 30 Sep 2025) EllapsedTime: 14.6 seconds RetCode: 0 Status: OK