Package: epiregulon Version: 1.5.1 Command: /Library/Frameworks/R.framework/Resources/bin/R CMD build --keep-empty-dirs --no-resave-data epiregulon StartedAt: 2025-09-30 16:19:49 -0400 (Tue, 30 Sep 2025) EndedAt: 2025-09-30 16:21:19 -0400 (Tue, 30 Sep 2025) EllapsedTime: 89.9 seconds RetCode: 0 Status: OK PackageFile: epiregulon_1.5.1.tar.gz PackageFileSize: 1.247 MiB