Package: epiregulon.extra Version: 1.5.0 Command: F:\biocbuild\bbs-3.22-bioc\R\bin\R.exe CMD INSTALL epiregulon.extra StartedAt: 2025-07-24 16:56:56 -0400 (Thu, 24 Jul 2025) EndedAt: 2025-07-24 16:57:44 -0400 (Thu, 24 Jul 2025) EllapsedTime: 47.4 seconds RetCode: 0 Status: OK