Package: epiregulon.extra Version: 1.5.0 Command: /Library/Frameworks/R.framework/Resources/bin/R CMD INSTALL epiregulon.extra StartedAt: 2025-07-14 15:55:44 -0400 (Mon, 14 Jul 2025) EndedAt: 2025-07-14 15:56:21 -0400 (Mon, 14 Jul 2025) EllapsedTime: 36.6 seconds RetCode: 0 Status: OK