Package: epiregulon.extra Version: 1.5.0 Command: /Library/Frameworks/R.framework/Resources/bin/R CMD check --install=check:epiregulon.extra.install-out.txt --library=/Library/Frameworks/R.framework/Resources/library --no-vignettes --timings epiregulon.extra_1.5.0.tar.gz StartedAt: 2025-07-14 20:37:13 -0400 (Mon, 14 Jul 2025) EndedAt: 2025-07-14 20:49:01 -0400 (Mon, 14 Jul 2025) EllapsedTime: 708.1 seconds RetCode: 0 Status: OK CheckDir: epiregulon.extra.Rcheck Warnings: 0