Package: epiregulon.extra Version: 1.5.0 Command: /Library/Frameworks/R.framework/Resources/bin/R CMD build --keep-empty-dirs --no-resave-data epiregulon.extra StartedAt: 2025-07-14 16:53:10 -0400 (Mon, 14 Jul 2025) EndedAt: 2025-07-14 16:59:23 -0400 (Mon, 14 Jul 2025) EllapsedTime: 372.8 seconds RetCode: 0 Status: OK PackageFile: epiregulon.extra_1.5.0.tar.gz PackageFileSize: 3.373 MiB