Package: epigenomix Version: 1.49.0 Command: /home/biocbuild/R/R/bin/R CMD INSTALL epigenomix StartedAt: 2025-07-24 21:44:44 -0000 (Thu, 24 Jul 2025) EndedAt: 2025-07-24 21:45:33 -0000 (Thu, 24 Jul 2025) EllapsedTime: 49.8 seconds RetCode: 0 Status: OK