Package: epigenomix Version: 1.49.0 Command: /home/biocbuild/R/R/bin/R CMD build --keep-empty-dirs --no-resave-data epigenomix StartedAt: 2025-07-25 00:28:27 -0000 (Fri, 25 Jul 2025) EndedAt: 2025-07-25 00:30:20 -0000 (Fri, 25 Jul 2025) EllapsedTime: 113.0 seconds RetCode: 0 Status: OK PackageFile: epigenomix_1.49.0.tar.gz PackageFileSize: 422.7 KiB