Package: epigenomix Version: 1.49.0 Command: /Library/Frameworks/R.framework/Resources/bin/R CMD INSTALL epigenomix StartedAt: 2025-06-29 15:20:00 -0400 (Sun, 29 Jun 2025) EndedAt: 2025-06-29 15:20:15 -0400 (Sun, 29 Jun 2025) EllapsedTime: 15.5 seconds RetCode: 0 Status: OK