Package: epigenomix Version: 1.49.0 Command: /Library/Frameworks/R.framework/Resources/bin/R CMD check --install=check:epigenomix.install-out.txt --library=/Library/Frameworks/R.framework/Resources/library --no-vignettes --timings epigenomix_1.49.0.tar.gz StartedAt: 2025-06-29 19:08:27 -0400 (Sun, 29 Jun 2025) EndedAt: 2025-06-29 19:10:20 -0400 (Sun, 29 Jun 2025) EllapsedTime: 113.3 seconds RetCode: 0 Status: OK CheckDir: epigenomix.Rcheck Warnings: 0