Package: epigenomix Version: 1.49.0 Command: /Library/Frameworks/R.framework/Resources/bin/R CMD build --keep-empty-dirs --no-resave-data epigenomix StartedAt: 2025-06-29 16:14:53 -0400 (Sun, 29 Jun 2025) EndedAt: 2025-06-29 16:15:24 -0400 (Sun, 29 Jun 2025) EllapsedTime: 31.3 seconds RetCode: 0 Status: OK PackageFile: epigenomix_1.49.0.tar.gz PackageFileSize: 426.6 KiB