Package: epialleleR Version: 1.17.1 Command: chmod a+r epialleleR -R && F:\biocbuild\bbs-3.22-bioc\R\bin\R.exe CMD build --keep-empty-dirs --no-resave-data epialleleR StartedAt: 2025-07-16 18:45:56 -0400 (Wed, 16 Jul 2025) EndedAt: 2025-07-16 18:53:41 -0400 (Wed, 16 Jul 2025) EllapsedTime: 465.5 seconds RetCode: 0 Status: OK PackageFile: epialleleR_1.17.1.tar.gz PackageFileSize: 2.367 MiB