Package: epialleleR Version: 1.17.1 Command: rm -rf epialleleR.buildbin-libdir && mkdir epialleleR.buildbin-libdir && F:\biocbuild\bbs-3.22-bioc\R\bin\R.exe CMD INSTALL --build --library=epialleleR.buildbin-libdir epialleleR_1.17.1.tar.gz StartedAt: 2025-07-17 08:54:49 -0400 (Thu, 17 Jul 2025) EndedAt: 2025-07-17 08:56:38 -0400 (Thu, 17 Jul 2025) EllapsedTime: 109.7 seconds RetCode: 0 Status: OK PackageFile: epialleleR_1.17.1.zip PackageFileSize: 7.695 MiB