Package: epialleleR Version: 1.17.0 Command: /Library/Frameworks/R.framework/Resources/bin/R CMD INSTALL epialleleR StartedAt: 2025-07-01 15:18:15 -0400 (Tue, 01 Jul 2025) EndedAt: 2025-07-01 15:18:34 -0400 (Tue, 01 Jul 2025) EllapsedTime: 18.8 seconds RetCode: 0 Status: OK