Package: epialleleR Version: 1.17.0 Command: rm -rf epialleleR.buildbin-libdir && mkdir epialleleR.buildbin-libdir && /Users/biocbuild/BBS/utils/build-universal.sh epialleleR_1.17.0.tar.gz /Library/Frameworks/R.framework/Resources/bin/R epialleleR.buildbin-libdir StartedAt: 2025-07-01 22:17:59 -0400 (Tue, 01 Jul 2025) EndedAt: 2025-07-01 22:18:21 -0400 (Tue, 01 Jul 2025) EllapsedTime: 21.4 seconds RetCode: 0 Status: OK PackageFile: epialleleR_1.17.0.tgz PackageFileSize: 4.352 MiB