Package: epiNEM Version: 1.33.0 Command: F:\biocbuild\bbs-3.22-bioc\R\bin\R.exe CMD check --no-multiarch --install=check:epiNEM.install-out.txt --library=F:\biocbuild\bbs-3.22-bioc\R\library --no-vignettes --timings epiNEM_1.33.0.tar.gz StartedAt: 2025-07-02 01:42:59 -0400 (Wed, 02 Jul 2025) EndedAt: 2025-07-02 01:46:15 -0400 (Wed, 02 Jul 2025) EllapsedTime: 195.5 seconds RetCode: 0 Status: OK CheckDir: epiNEM.Rcheck Warnings: 0