Package: epiNEM Version: 1.33.0 Command: /Library/Frameworks/R.framework/Resources/bin/R CMD INSTALL epiNEM StartedAt: 2025-07-16 15:21:19 -0400 (Wed, 16 Jul 2025) EndedAt: 2025-07-16 15:21:44 -0400 (Wed, 16 Jul 2025) EllapsedTime: 25.2 seconds RetCode: 0 Status: OK