Package: epiNEM Version: 1.33.0 Command: /Library/Frameworks/R.framework/Resources/bin/R CMD build --keep-empty-dirs --no-resave-data epiNEM StartedAt: 2025-07-16 16:50:32 -0400 (Wed, 16 Jul 2025) EndedAt: 2025-07-16 16:51:52 -0400 (Wed, 16 Jul 2025) EllapsedTime: 79.9 seconds RetCode: 0 Status: OK PackageFile: epiNEM_1.33.0.tar.gz PackageFileSize: 2.407 MiB