Package: ensembldb Version: 2.33.1 Command: F:\biocbuild\bbs-3.22-bioc\R\bin\R.exe CMD INSTALL ensembldb StartedAt: 2025-07-14 16:36:59 -0400 (Mon, 14 Jul 2025) EndedAt: 2025-07-14 16:38:52 -0400 (Mon, 14 Jul 2025) EllapsedTime: 113.7 seconds RetCode: 0 Status: OK