Package: ensembldb Version: 2.33.1 Command: chmod a+r ensembldb -R && F:\biocbuild\bbs-3.22-bioc\R\bin\R.exe CMD build --keep-empty-dirs --no-resave-data ensembldb StartedAt: 2025-07-15 18:46:49 -0400 (Tue, 15 Jul 2025) EndedAt: 2025-07-15 18:51:29 -0400 (Tue, 15 Jul 2025) EllapsedTime: 279.7 seconds RetCode: 0 Status: OK PackageFile: ensembldb_2.33.1.tar.gz PackageFileSize: 3.116 MiB