Package: ensembldb Version: 2.33.1 Command: rm -rf ensembldb.buildbin-libdir && mkdir ensembldb.buildbin-libdir && F:\biocbuild\bbs-3.22-bioc\R\bin\R.exe CMD INSTALL --build --library=ensembldb.buildbin-libdir ensembldb_2.33.1.tar.gz StartedAt: 2025-07-15 08:53:07 -0400 (Tue, 15 Jul 2025) EndedAt: 2025-07-15 08:55:15 -0400 (Tue, 15 Jul 2025) EllapsedTime: 128.1 seconds RetCode: 0 Status: OK PackageFile: ensembldb_2.33.1.zip PackageFileSize: 3.44 MiB