Package: enhancerHomologSearch Version: 1.15.1 Command: /home/biocbuild/R/R/bin/R CMD INSTALL enhancerHomologSearch StartedAt: 2025-07-03 21:20:03 -0000 (Thu, 03 Jul 2025) EndedAt: 2025-07-03 21:26:56 -0000 (Thu, 03 Jul 2025) EllapsedTime: 413.0 seconds RetCode: 0 Status: OK