Package: enhancerHomologSearch Version: 1.15.1 Command: /home/biocbuild/R/R/bin/R CMD build --keep-empty-dirs --no-resave-data enhancerHomologSearch StartedAt: 2025-07-03 23:43:32 -0000 (Thu, 03 Jul 2025) EndedAt: 2025-07-03 23:50:46 -0000 (Thu, 03 Jul 2025) EllapsedTime: 434.1 seconds RetCode: 1 Status: ERROR PackageFile: None PackageFileSize: NA