Package: enhancerHomologSearch Version: 1.15.1 Command: chmod a+r enhancerHomologSearch -R && F:\biocbuild\bbs-3.22-bioc\R\bin\R.exe CMD build --keep-empty-dirs --no-resave-data enhancerHomologSearch StartedAt: 2025-07-03 18:46:20 -0400 (Thu, 03 Jul 2025) EndedAt: 2025-07-03 19:10:19 -0400 (Thu, 03 Jul 2025) EllapsedTime: 1438.6 seconds RetCode: 0 Status: OK PackageFile: enhancerHomologSearch_1.15.1.tar.gz PackageFileSize: 1.043 MiB