Package: enhancerHomologSearch Version: 1.15.1 Command: /home/biocbuild/bbs-3.22-bioc/R/bin/R CMD check --install=check:enhancerHomologSearch.install-out.txt --library=/home/biocbuild/bbs-3.22-bioc/R/site-library --timings enhancerHomologSearch_1.15.1.tar.gz StartedAt: 2025-07-02 22:14:11 -0400 (Wed, 02 Jul 2025) EndedAt: 2025-07-02 22:32:00 -0400 (Wed, 02 Jul 2025) EllapsedTime: 1069.0 seconds RetCode: 0 Status: OK CheckDir: enhancerHomologSearch.Rcheck Warnings: 0