Package: enhancerHomologSearch Version: 1.15.1 Command: /home/biocbuild/bbs-3.22-bioc/R/bin/R CMD build --keep-empty-dirs --no-resave-data --md5 enhancerHomologSearch StartedAt: 2025-07-02 17:17:17 -0400 (Wed, 02 Jul 2025) EndedAt: 2025-07-02 17:28:16 -0400 (Wed, 02 Jul 2025) EllapsedTime: 659.0 seconds RetCode: 0 Status: OK PackageFile: enhancerHomologSearch_1.15.1.tar.gz PackageFileSize: 1.05 MiB