Package: enhancerHomologSearch Version: 1.15.1 Command: /Library/Frameworks/R.framework/Resources/bin/R CMD INSTALL enhancerHomologSearch StartedAt: 2025-07-03 15:42:21 -0400 (Thu, 03 Jul 2025) EndedAt: 2025-07-03 15:47:47 -0400 (Thu, 03 Jul 2025) EllapsedTime: 326.3 seconds RetCode: 0 Status: OK