Package: enhancerHomologSearch Version: 1.15.1 Command: /Library/Frameworks/R.framework/Resources/bin/R CMD check --install=check:enhancerHomologSearch.install-out.txt --library=/Library/Frameworks/R.framework/Resources/library --no-vignettes --timings enhancerHomologSearch_1.15.1.tar.gz StartedAt: 2025-07-07 20:30:56 -0400 (Mon, 07 Jul 2025) EndedAt: 2025-07-07 20:44:12 -0400 (Mon, 07 Jul 2025) EllapsedTime: 795.9 seconds RetCode: 0 Status: OK CheckDir: enhancerHomologSearch.Rcheck Warnings: 0