Package: enhancerHomologSearch Version: 1.15.1 Command: rm -rf enhancerHomologSearch.buildbin-libdir && mkdir enhancerHomologSearch.buildbin-libdir && /Users/biocbuild/BBS/utils/build-universal.sh enhancerHomologSearch_1.15.1.tar.gz /Library/Frameworks/R.framework/Resources/bin/R enhancerHomologSearch.buildbin-libdir StartedAt: 2025-07-07 00:41:46 -0400 (Mon, 07 Jul 2025) EndedAt: 2025-07-07 00:47:29 -0400 (Mon, 07 Jul 2025) EllapsedTime: 342.8 seconds RetCode: 0 Status: OK PackageFile: enhancerHomologSearch_1.15.1.tgz PackageFileSize: 1.911 MiB