Package: eiR Version: 1.49.0 Command: /home/biocbuild/R/R/bin/R CMD check --install=check:eiR.install-out.txt --library=/home/biocbuild/R/R/site-library --no-vignettes --timings eiR_1.49.0.tar.gz StartedAt: 2025-07-18 06:29:23 -0000 (Fri, 18 Jul 2025) EndedAt: 2025-07-18 06:31:36 -0000 (Fri, 18 Jul 2025) EllapsedTime: 133.1 seconds RetCode: 0 Status: OK CheckDir: eiR.Rcheck Warnings: 0