Package: eiR Version: 1.49.0 Command: F:\biocbuild\bbs-3.22-bioc\R\bin\R.exe CMD INSTALL eiR StartedAt: 2025-07-22 16:56:30 -0400 (Tue, 22 Jul 2025) EndedAt: 2025-07-22 16:56:52 -0400 (Tue, 22 Jul 2025) EllapsedTime: 22.1 seconds RetCode: 0 Status: OK