Package: eiR Version: 1.49.0 Command: chmod a+r eiR -R && F:\biocbuild\bbs-3.22-bioc\R\bin\R.exe CMD build --keep-empty-dirs --no-resave-data eiR StartedAt: 2025-07-22 18:46:04 -0400 (Tue, 22 Jul 2025) EndedAt: 2025-07-22 18:46:53 -0400 (Tue, 22 Jul 2025) EllapsedTime: 48.5 seconds RetCode: 0 Status: OK PackageFile: eiR_1.49.0.tar.gz PackageFileSize: 676.1 KiB