Package: eiR Version: 1.49.0 Command: rm -rf eiR.buildbin-libdir && mkdir eiR.buildbin-libdir && F:\biocbuild\bbs-3.22-bioc\R\bin\R.exe CMD INSTALL --build --library=eiR.buildbin-libdir eiR_1.49.0.tar.gz StartedAt: 2025-07-23 09:03:16 -0400 (Wed, 23 Jul 2025) EndedAt: 2025-07-23 09:03:56 -0400 (Wed, 23 Jul 2025) EllapsedTime: 40.2 seconds RetCode: 0 Status: OK PackageFile: eiR_1.49.0.zip PackageFileSize: 517.2 KiB