Package: eiR Version: 1.49.0 Command: /Library/Frameworks/R.framework/Resources/bin/R CMD INSTALL eiR StartedAt: 2025-07-11 15:13:55 -0400 (Fri, 11 Jul 2025) EndedAt: 2025-07-11 15:14:08 -0400 (Fri, 11 Jul 2025) EllapsedTime: 13.4 seconds RetCode: 0 Status: OK