Package: eiR Version: 1.49.0 Command: /Library/Frameworks/R.framework/Resources/bin/R CMD build --keep-empty-dirs --no-resave-data eiR StartedAt: 2025-07-14 16:13:10 -0400 (Mon, 14 Jul 2025) EndedAt: 2025-07-14 16:13:20 -0400 (Mon, 14 Jul 2025) EllapsedTime: 10.1 seconds RetCode: 0 Status: OK PackageFile: eiR_1.49.0.tar.gz PackageFileSize: 452.4 KiB