Package: eiR Version: 1.49.0 Command: rm -rf eiR.buildbin-libdir && mkdir eiR.buildbin-libdir && /Users/biocbuild/BBS/utils/build-universal.sh eiR_1.49.0.tar.gz /Library/Frameworks/R.framework/Resources/bin/R eiR.buildbin-libdir StartedAt: 2025-07-14 22:17:55 -0400 (Mon, 14 Jul 2025) EndedAt: 2025-07-14 22:18:00 -0400 (Mon, 14 Jul 2025) EllapsedTime: 5.1 seconds RetCode: 0 Status: OK PackageFile: eiR_1.49.0.tgz PackageFileSize: 572.5 KiB