Package: eds Version: 1.11.0 Command: /Library/Frameworks/R.framework/Resources/bin/R CMD INSTALL eds StartedAt: 2025-07-13 15:09:58 -0400 (Sun, 13 Jul 2025) EndedAt: 2025-07-13 15:10:21 -0400 (Sun, 13 Jul 2025) EllapsedTime: 23.6 seconds RetCode: 0 Status: OK