Package: eds Version: 1.11.0 Command: /Library/Frameworks/R.framework/Resources/bin/R CMD check --install=check:eds.install-out.txt --library=/Library/Frameworks/R.framework/Resources/library --no-vignettes --timings eds_1.11.0.tar.gz StartedAt: 2025-07-13 20:32:44 -0400 (Sun, 13 Jul 2025) EndedAt: 2025-07-13 20:33:35 -0400 (Sun, 13 Jul 2025) EllapsedTime: 50.6 seconds RetCode: 0 Status: OK CheckDir: eds.Rcheck Warnings: 0