Package: eds Version: 1.11.0 Command: rm -rf eds.buildbin-libdir && mkdir eds.buildbin-libdir && /Users/biocbuild/BBS/utils/build-universal.sh eds_1.11.0.tar.gz /Library/Frameworks/R.framework/Resources/bin/R eds.buildbin-libdir StartedAt: 2025-07-16 01:01:12 -0400 (Wed, 16 Jul 2025) EndedAt: 2025-07-16 01:01:29 -0400 (Wed, 16 Jul 2025) EllapsedTime: 17.2 seconds RetCode: 0 Status: OK PackageFile: eds_1.11.0.tgz PackageFileSize: 257.5 KiB