Package: edgeR Version: 4.7.3 Command: F:\biocbuild\bbs-3.22-bioc\R\bin\R.exe CMD INSTALL edgeR StartedAt: 2025-07-11 15:25:33 -0400 (Fri, 11 Jul 2025) EndedAt: 2025-07-11 15:27:04 -0400 (Fri, 11 Jul 2025) EllapsedTime: 90.9 seconds RetCode: 0 Status: OK