Package: edgeR Version: 4.7.3 Command: rm -rf edgeR.buildbin-libdir && mkdir edgeR.buildbin-libdir && F:\biocbuild\bbs-3.22-bioc\R\bin\R.exe CMD INSTALL --build --library=edgeR.buildbin-libdir edgeR_4.7.3.tar.gz StartedAt: 2025-07-12 08:46:56 -0400 (Sat, 12 Jul 2025) EndedAt: 2025-07-12 08:48:27 -0400 (Sat, 12 Jul 2025) EllapsedTime: 91.1 seconds RetCode: 0 Status: OK PackageFile: edgeR_4.7.3.zip PackageFileSize: 2.941 MiB