Package: ecolitk Version: 1.81.0 Command: /home/biocbuild/R/R/bin/R CMD check --install=check:ecolitk.install-out.txt --library=/home/biocbuild/R/R/site-library --no-vignettes --timings ecolitk_1.81.0.tar.gz StartedAt: 2025-07-01 07:01:36 -0000 (Tue, 01 Jul 2025) EndedAt: 2025-07-01 07:02:09 -0000 (Tue, 01 Jul 2025) EllapsedTime: 33.0 seconds RetCode: 0 Status: WARNINGS CheckDir: ecolitk.Rcheck Warnings: 1