Package: ecolitk Version: 1.81.0 Command: chmod a+r ecolitk -R && F:\biocbuild\bbs-3.22-bioc\R\bin\R.exe CMD build --keep-empty-dirs --no-resave-data ecolitk StartedAt: 2025-07-24 18:55:00 -0400 (Thu, 24 Jul 2025) EndedAt: 2025-07-24 18:55:34 -0400 (Thu, 24 Jul 2025) EllapsedTime: 33.9 seconds RetCode: 0 Status: OK PackageFile: ecolitk_1.81.0.tar.gz PackageFileSize: 1.682 MiB