Package: easyreporting Version: 1.21.0 Command: /home/biocbuild/R/R/bin/R CMD check --install=check:easyreporting.install-out.txt --library=/home/biocbuild/R/R/site-library --no-vignettes --timings easyreporting_1.21.0.tar.gz StartedAt: 2025-06-27 06:46:02 -0000 (Fri, 27 Jun 2025) EndedAt: 2025-06-27 06:46:47 -0000 (Fri, 27 Jun 2025) EllapsedTime: 45.0 seconds RetCode: 0 Status: OK CheckDir: easyreporting.Rcheck Warnings: 0