Package: easyreporting Version: 1.21.0 Command: F:\biocbuild\bbs-3.22-bioc\R\bin\R.exe CMD INSTALL easyreporting StartedAt: 2025-06-29 15:38:30 -0400 (Sun, 29 Jun 2025) EndedAt: 2025-06-29 15:39:18 -0400 (Sun, 29 Jun 2025) EllapsedTime: 47.3 seconds RetCode: 0 Status: OK