Package: easyreporting Version: 1.21.0 Command: F:\biocbuild\bbs-3.22-bioc\R\bin\R.exe CMD check --no-multiarch --install=check:easyreporting.install-out.txt --library=F:\biocbuild\bbs-3.22-bioc\R\library --no-vignettes --timings easyreporting_1.21.0.tar.gz StartedAt: 2025-06-30 01:28:19 -0400 (Mon, 30 Jun 2025) EndedAt: 2025-06-30 01:29:01 -0400 (Mon, 30 Jun 2025) EllapsedTime: 41.7 seconds RetCode: 0 Status: OK CheckDir: easyreporting.Rcheck Warnings: 0