Package: easyreporting Version: 1.21.0 Command: /Library/Frameworks/R.framework/Resources/bin/R CMD check --install=check:easyreporting.install-out.txt --library=/Library/Frameworks/R.framework/Resources/library --no-vignettes --timings easyreporting_1.21.0.tar.gz StartedAt: 2025-06-29 20:16:28 -0400 (Sun, 29 Jun 2025) EndedAt: 2025-06-29 20:17:04 -0400 (Sun, 29 Jun 2025) EllapsedTime: 36.6 seconds RetCode: 0 Status: OK CheckDir: easyreporting.Rcheck Warnings: 0